BEGIN:VCALENDAR
VERSION:2.0
PRODID:iCagenda
METHOD:PUBLISH
X-WR-CALDESC:
X-WR-TIMEZONE:Australia/Melbourne
BEGIN:VTIMEZONE
TZID:Australia/Melbourne
X-LIC-LOCATION:Australia/Melbourne
BEGIN:STANDARD
DTSTART:20190407T030000
TZOFFSETFROM:+1100
TZOFFSETTO:+1000
TZNAME:AEST
END:STANDARD
BEGIN:DAYLIGHT
DTSTART:20191006T020000
TZOFFSETFROM:+1000
TZOFFSETTO:+1100
TZNAME:AEDT
END:DAYLIGHT
END:VTIMEZONE
BEGIN:VEVENT
UID:45
DTSTAMP:20190227T013728Z
CATEGORIES:Green Belt
DESCRIPTION:START Lean Six Sigma Green Belt\nPre-requisites for Lean Six Si
 gma Green Belt Training are a Certified Yellow Belt or equivalent prior qu
 alifications and experience as assessed prior to start.\nThe program is ba
 sed on the body of knowledge under ISO 18404.\nProgram Structure\n2+2 days
  of workshops\nOn-line learning (2 Modules) This covers&nbsp\;the statisti
 cal part of the Body of Knowledge&nbsp\;and is supported by workshop sessi
 ons.\n{snippet InvestmentGreenBelt}
DTSTART:20191103T220000Z
DTEND:20191105T053000Z
LOCATION:Room 302\, 87 Gladstone Street\, South Melbourne VIC 3204 from 9am
  to 4.30pm each workshop day. 
SUMMARY:Start Lean Six Sigma Green Belt 
URL:https://leansigmainstitute.com.au/training-lean-six-sigma-melbourne/cou
 rse-calendar-lean-6-sigma-agile/45-yellow-belt-lean-sigma-training-14?vcal
 =1
END:VEVENT
END:VCALENDAR
